BEGIN:VCALENDAR
PRODID:-//eluceo/ical//2.0/EN
VERSION:2.0
CALSCALE:GREGORIAN
BEGIN:VEVENT
UID:08df320da4e32b11d5498fe7182eb22b
DTSTAMP:20260425T154212Z
SUMMARY:Wettschiessen
DESCRIPTION:https://www.sg-kuettigen.ch/jungschuetzen/kalender/wettschiesse
 n-0
DTSTART:20240604T174500
DTEND:20240604T193000
LOCATION:Schiessanlage Obertel\, Suhr\, Obertelweg\, 5034 Suhr
ORGANIZER;CN=Schützengesellschaft Küttigen:mailto:info@sg-kuettigen.ch
END:VEVENT
END:VCALENDAR
