BEGIN:VCALENDAR
PRODID:-//eluceo/ical//2.0/EN
VERSION:2.0
CALSCALE:GREGORIAN
BEGIN:VEVENT
UID:8f2c77966e21024c2123809cc487ae24
DTSTAMP:20260425T154442Z
SUMMARY:Schützenhausputzete
DESCRIPTION:https://www.sg-kuettigen.ch/kalender/schuetzenhausputzete-4
DTSTART:20250315T090000
DTEND:20250315T110000
LOCATION:Schützenhaus Talmatt\, Küttigen\, Schützenhaus\, 5024 Küttigen
ORGANIZER;CN=Schützengesellschaft Küttigen:mailto:info@sg-kuettigen.ch
END:VEVENT
END:VCALENDAR
