BEGIN:VCALENDAR
PRODID:-//eluceo/ical//2.0/EN
VERSION:2.0
CALSCALE:GREGORIAN
BEGIN:VEVENT
UID:2636f995c41b08025a91500cb886019f
DTSTAMP:20260425T152648Z
SUMMARY:Winterausmarsch
DESCRIPTION:https://www.sg-kuettigen.ch/kalender/winterausmarsch-3
DTSTART:20250315T131000
DTEND:20250315T180000
LOCATION:Schulhaus Dorf\, Küttigen\, Schulhausweg 1\, 5024 Küttigen
ORGANIZER;CN=Schützengesellschaft Küttigen:mailto:info@sg-kuettigen.ch
END:VEVENT
END:VCALENDAR
