BEGIN:VCALENDAR
PRODID:-//eluceo/ical//2.0/EN
VERSION:2.0
CALSCALE:GREGORIAN
BEGIN:VEVENT
UID:8854dd00f485161936257dd7a2604f65
DTSTAMP:20260425T153050Z
SUMMARY:Training
DESCRIPTION:https://www.sg-kuettigen.ch/kalender/training-64
DTSTART:20250329T090000
DTEND:20250329T110000
LOCATION:Schützenhaus Talmatt\, Küttigen\, Schützenhaus\, 5024 Küttigen
ORGANIZER;CN=Schützengesellschaft Küttigen:mailto:info@sg-kuettigen.ch
END:VEVENT
END:VCALENDAR
