BEGIN:VCALENDAR
PRODID:-//eluceo/ical//2.0/EN
VERSION:2.0
CALSCALE:GREGORIAN
BEGIN:VEVENT
UID:b50f7cfd0f3b2bd85bef33148f0d5881
DTSTAMP:20260425T153004Z
SUMMARY:Training
DESCRIPTION:https://www.sg-kuettigen.ch/kalender/training-65
DTSTART:20250403T180000
DTEND:20250403T193000
LOCATION:Schützenhaus Talmatt\, Küttigen\, Schützenhaus\, 5024 Küttigen
ORGANIZER;CN=Schützengesellschaft Küttigen:mailto:info@sg-kuettigen.ch
END:VEVENT
END:VCALENDAR
