BEGIN:VCALENDAR
PRODID:-//eluceo/ical//2.0/EN
VERSION:2.0
CALSCALE:GREGORIAN
BEGIN:VEVENT
UID:697fbdf1cb606885da64a10eae64d7f1
DTSTAMP:20260425T153322Z
SUMMARY:Training
DESCRIPTION:https://www.sg-kuettigen.ch/kalender/training-66
DTSTART:20250410T180000
DTEND:20250410T193000
LOCATION:Schützenhaus Talmatt\, Küttigen\, Schützenhaus\, 5024 Küttigen
ORGANIZER;CN=Schützengesellschaft Küttigen:mailto:info@sg-kuettigen.ch
END:VEVENT
END:VCALENDAR
