BEGIN:VCALENDAR
PRODID:-//eluceo/ical//2.0/EN
VERSION:2.0
CALSCALE:GREGORIAN
BEGIN:VEVENT
UID:58b89cdef1260e57d3a47ed7517902ee
DTSTAMP:20260425T155355Z
SUMMARY:Vorschiessen Kirchbergmeisterschaft
DESCRIPTION:https://www.sg-kuettigen.ch/kirchberg-schuetzenverband/kalender
 /vorschiessen-kirchbergmeisterschaft
DTSTART:20250416T180000
DTEND:20250416T193000
LOCATION:Schiessanlage Büelhalde\, Densbüren\, Cholhaldeweg\, 5026 Densb
 üren
ORGANIZER;CN=Schützengesellschaft Küttigen:mailto:info@sg-kuettigen.ch
END:VEVENT
END:VCALENDAR
