BEGIN:VCALENDAR
PRODID:-//eluceo/ical//2.0/EN
VERSION:2.0
CALSCALE:GREGORIAN
BEGIN:VEVENT
UID:0faca7df5804ff3cdb0a5601169600d9
DTSTAMP:20260425T153040Z
SUMMARY:Training
DESCRIPTION:https://www.sg-kuettigen.ch/kalender/training-67
DTSTART:20250419T090000
DTEND:20250419T110000
LOCATION:Schützenhaus Talmatt\, Küttigen\, Schützenhaus\, 5024 Küttigen
ORGANIZER;CN=Schützengesellschaft Küttigen:mailto:info@sg-kuettigen.ch
END:VEVENT
END:VCALENDAR
