BEGIN:VCALENDAR
PRODID:-//eluceo/ical//2.0/EN
VERSION:2.0
CALSCALE:GREGORIAN
BEGIN:VEVENT
UID:732df685e970708677d31bb4f000bfef
DTSTAMP:20260425T153037Z
SUMMARY:Frühlingscup
DESCRIPTION:https://www.sg-kuettigen.ch/kalender/fruehlingscup-2
DTSTART:20250419T133000
DTEND:20250419T153000
LOCATION:Schützenhaus Talmatt\, Küttigen\, Schützenhaus\, 5024 Küttigen
ORGANIZER;CN=Schützengesellschaft Küttigen:mailto:info@sg-kuettigen.ch
END:VEVENT
END:VCALENDAR
