BEGIN:VCALENDAR
PRODID:-//eluceo/ical//2.0/EN
VERSION:2.0
CALSCALE:GREGORIAN
BEGIN:VEVENT
UID:865f1f9b90a9a891761c3811568b4bfc
DTSTAMP:20260425T155204Z
SUMMARY:21. Gheischiessen (1/5)
DESCRIPTION:https://www.sg-kuettigen.ch/kalender/21-gheischiessen
DTSTART:20250421T080000
DTEND:20250421T120000
LOCATION:Schiessanlage GSA Ghei\, Wegenstetten\, Steinacher\, 4317 Wegenste
 tten
ORGANIZER;CN=Schützengesellschaft Küttigen:mailto:info@sg-kuettigen.ch
END:VEVENT
BEGIN:VEVENT
UID:d98f9dbab5b9046a0256da23c56e81de
DTSTAMP:20260425T155204Z
SUMMARY:21. Gheischiessen (2/5)
DESCRIPTION:https://www.sg-kuettigen.ch/kalender/21-gheischiessen
DTSTART:20250421T130000
DTEND:20250421T170000
LOCATION:Schiessanlage GSA Ghei\, Wegenstetten\, Steinacher\, 4317 Wegenste
 tten
ORGANIZER;CN=Schützengesellschaft Küttigen:mailto:info@sg-kuettigen.ch
END:VEVENT
BEGIN:VEVENT
UID:f06a2d33768de3a403f888bf103b8b4d
DTSTAMP:20260425T155204Z
SUMMARY:21. Gheischiessen (3/5)
DESCRIPTION:https://www.sg-kuettigen.ch/kalender/21-gheischiessen
DTSTART:20250426T080000
DTEND:20250426T120000
LOCATION:Schiessanlage GSA Ghei\, Wegenstetten\, Steinacher\, 4317 Wegenste
 tten
ORGANIZER;CN=Schützengesellschaft Küttigen:mailto:info@sg-kuettigen.ch
END:VEVENT
BEGIN:VEVENT
UID:65c078110759797117960da1be4e6604
DTSTAMP:20260425T155204Z
SUMMARY:21. Gheischiessen (4/5)
DESCRIPTION:https://www.sg-kuettigen.ch/kalender/21-gheischiessen
DTSTART:20250426T130000
DTEND:20250426T170000
LOCATION:Schiessanlage GSA Ghei\, Wegenstetten\, Steinacher\, 4317 Wegenste
 tten
ORGANIZER;CN=Schützengesellschaft Küttigen:mailto:info@sg-kuettigen.ch
END:VEVENT
BEGIN:VEVENT
UID:09431ad89faeacb91ce698b07d7a6127
DTSTAMP:20260425T155204Z
SUMMARY:21. Gheischiessen (5/5)
DESCRIPTION:https://www.sg-kuettigen.ch/kalender/21-gheischiessen
DTSTART:20250427T090000
DTEND:20250427T120000
LOCATION:Schiessanlage GSA Ghei\, Wegenstetten\, Steinacher\, 4317 Wegenste
 tten
ORGANIZER;CN=Schützengesellschaft Küttigen:mailto:info@sg-kuettigen.ch
END:VEVENT
END:VCALENDAR
