BEGIN:VCALENDAR
PRODID:-//eluceo/ical//2.0/EN
VERSION:2.0
CALSCALE:GREGORIAN
BEGIN:VEVENT
UID:4feca3ee0a3de1eea92d3712503da7d1
DTSTAMP:20260425T154223Z
SUMMARY:Eröffnungsschiessen Kirchbergmeisterschaft
DESCRIPTION:https://www.sg-kuettigen.ch/kirchberg-schuetzenverband/kalender
 /eroeffnungsschiessen-kirchbergmeisterschaft-1
DTSTART:20250426T090000
DTEND:20250426T110000
LOCATION:Schiessanlage Büelhalde\, Densbüren\, Cholhaldeweg\, 5026 Densb
 üren
ORGANIZER;CN=Schützengesellschaft Küttigen:mailto:info@sg-kuettigen.ch
END:VEVENT
END:VCALENDAR
