BEGIN:VCALENDAR
PRODID:-//eluceo/ical//2.0/EN
VERSION:2.0
CALSCALE:GREGORIAN
BEGIN:VEVENT
UID:9d3b76ae099b58c3b2e8e087e8cc6a4b
DTSTAMP:20260425T155353Z
SUMMARY:1. Obligatorischer Schiesstag
DESCRIPTION:https://www.sg-kuettigen.ch/kalender/1-obligatorischer-schiesst
 ag-2
DTSTART:20250503T093000
DTEND:20250503T110000
LOCATION:Schützenhaus Talmatt\, Küttigen\, Schützenhaus\, 5024 Küttigen
ORGANIZER;CN=Schützengesellschaft Küttigen:mailto:info@sg-kuettigen.ch
END:VEVENT
END:VCALENDAR
