BEGIN:VCALENDAR
PRODID:-//eluceo/ical//2.0/EN
VERSION:2.0
CALSCALE:GREGORIAN
BEGIN:VEVENT
UID:81cc0a8c9c75cde3ec63fe04c849fc64
DTSTAMP:20260425T154733Z
SUMMARY:Eidgenössisches Feldschiessen (1/3)
DESCRIPTION:https://www.sg-kuettigen.ch/kirchberg-schuetzenverband/kalender
 /eidgenoessisches-feldschiessen-1
DTSTART:20250524T090000
DTEND:20250524T120000
LOCATION:Schützenhaus Talmatt\, Küttigen\, Schützenhaus\, 5024 Küttigen
ORGANIZER;CN=Schützengesellschaft Küttigen:mailto:info@sg-kuettigen.ch
END:VEVENT
BEGIN:VEVENT
UID:452b90dc67c01bfc004f5e5a8ea82a6e
DTSTAMP:20260425T154733Z
SUMMARY:Eidgenössisches Feldschiessen (2/3)
DESCRIPTION:https://www.sg-kuettigen.ch/kirchberg-schuetzenverband/kalender
 /eidgenoessisches-feldschiessen-1
DTSTART:20250524T133000
DTEND:20250524T160000
LOCATION:Schützenhaus Talmatt\, Küttigen\, Schützenhaus\, 5024 Küttigen
ORGANIZER;CN=Schützengesellschaft Küttigen:mailto:info@sg-kuettigen.ch
END:VEVENT
BEGIN:VEVENT
UID:9d1135254ef581802238fed5a19a38a6
DTSTAMP:20260425T154733Z
SUMMARY:Eidgenössisches Feldschiessen (3/3)
DESCRIPTION:https://www.sg-kuettigen.ch/kirchberg-schuetzenverband/kalender
 /eidgenoessisches-feldschiessen-1
DTSTART:20250525T090000
DTEND:20250525T113000
LOCATION:Schützenhaus Talmatt\, Küttigen\, Schützenhaus\, 5024 Küttigen
ORGANIZER;CN=Schützengesellschaft Küttigen:mailto:info@sg-kuettigen.ch
END:VEVENT
END:VCALENDAR
