BEGIN:VCALENDAR
PRODID:-//eluceo/ical//2.0/EN
VERSION:2.0
CALSCALE:GREGORIAN
BEGIN:VEVENT
UID:1210a3023db3b4a309dc7a1983f6806e
DTSTAMP:20260425T153225Z
SUMMARY:Training
DESCRIPTION:https://www.sg-kuettigen.ch/kalender/training-68
DTSTART:20250531T090000
DTEND:20250531T110000
LOCATION:Schützenhaus Talmatt\, Küttigen\, Schützenhaus\, 5024 Küttigen
ORGANIZER;CN=Schützengesellschaft Küttigen:mailto:info@sg-kuettigen.ch
END:VEVENT
END:VCALENDAR
