BEGIN:VCALENDAR
PRODID:-//eluceo/ical//2.0/EN
VERSION:2.0
CALSCALE:GREGORIAN
BEGIN:VEVENT
UID:1edea8de0b577d7c462c95a848c5b0c3
DTSTAMP:20260425T154659Z
SUMMARY:Training mit Jungschützen-Wettschiessen
DESCRIPTION:https://www.sg-kuettigen.ch/kalender/training-mit-jungschuetzen
 -wettschiessen
DTSTART:20250605T180000
DTEND:20250605T200000
LOCATION:Schützenhaus Talmatt\, Küttigen\, Schützenhaus\, 5024 Küttigen
ORGANIZER;CN=Schützengesellschaft Küttigen:mailto:info@sg-kuettigen.ch
END:VEVENT
END:VCALENDAR
