BEGIN:VCALENDAR
PRODID:-//eluceo/ical//2.0/EN
VERSION:2.0
CALSCALE:GREGORIAN
BEGIN:VEVENT
UID:9b3bcf4513d78a6349dc6944267f9c97
DTSTAMP:20260425T155316Z
SUMMARY:Training
DESCRIPTION:https://www.sg-kuettigen.ch/kalender/training-69
DTSTART:20250614T090000
DTEND:20250614T110000
LOCATION:Schützenhaus Talmatt\, Küttigen\, Schützenhaus\, 5024 Küttigen
ORGANIZER;CN=Schützengesellschaft Küttigen:mailto:info@sg-kuettigen.ch
END:VEVENT
END:VCALENDAR
