BEGIN:VCALENDAR
PRODID:-//eluceo/ical//2.0/EN
VERSION:2.0
CALSCALE:GREGORIAN
BEGIN:VEVENT
UID:8469cc336c4468415bca8dcddf7f0f7c
DTSTAMP:20260425T171408Z
SUMMARY:Jugendfest Einschiessen und Umzug
DESCRIPTION:https://www.sg-kuettigen.ch/kalender/jugendfest-einschiessen-un
 d-umzug
DTSTART:20250628T070000
DTEND:20250628T150000
LOCATION:Schulhaus Dorf\, Küttigen\, Schulhausweg 1\, 5024 Küttigen
ORGANIZER;CN=Schützengesellschaft Küttigen:mailto:info@sg-kuettigen.ch
END:VEVENT
END:VCALENDAR
