BEGIN:VCALENDAR
PRODID:-//eluceo/ical//2.0/EN
VERSION:2.0
CALSCALE:GREGORIAN
BEGIN:VEVENT
UID:56aafc6b5dbad8a290e0cc5b1062f505
DTSTAMP:20260425T154700Z
SUMMARY:Training
DESCRIPTION:https://www.sg-kuettigen.ch/kalender/training-71
DTSTART:20250724T180000
DTEND:20250724T200000
LOCATION:Schützenhaus Talmatt\, Küttigen\, Schützenhaus\, 5024 Küttigen
ORGANIZER;CN=Schützengesellschaft Küttigen:mailto:info@sg-kuettigen.ch
END:VEVENT
END:VCALENDAR
