BEGIN:VCALENDAR
PRODID:-//eluceo/ical//2.0/EN
VERSION:2.0
CALSCALE:GREGORIAN
BEGIN:VEVENT
UID:f0c2a6ecc1a2e6abf9ab9a58807edca5
DTSTAMP:20260425T171941Z
SUMMARY:Vorschiessen KMS
DESCRIPTION:https://www.sg-kuettigen.ch/kirchberg-schuetzenverband/kalender
 /vorschiessen-kms
DTSTART:20250806T180000
DTEND:20250806T193000
LOCATION:Schiessanlage Büelhalde\, Densbüren\, Cholhaldeweg\, 5026 Densb
 üren
ORGANIZER;CN=Schützengesellschaft Küttigen:mailto:info@sg-kuettigen.ch
END:VEVENT
END:VCALENDAR
