BEGIN:VCALENDAR
PRODID:-//eluceo/ical//2.0/EN
VERSION:2.0
CALSCALE:GREGORIAN
BEGIN:VEVENT
UID:1ef180a6fffc75b98aba54328fb9a7e9
DTSTAMP:20260425T154658Z
SUMMARY:Vereinsobligatorisch mit Bräteln
DESCRIPTION:https://www.sg-kuettigen.ch/kalender/vereinsobligatorisch-mit-b
 raeteln-5
DTSTART:20250809T093000
DTEND:20250809T110000
LOCATION:Schützenhaus Talmatt\, Küttigen\, Schützenhaus\, 5024 Küttigen
ORGANIZER;CN=Schützengesellschaft Küttigen:mailto:info@sg-kuettigen.ch
END:VEVENT
END:VCALENDAR
