BEGIN:VCALENDAR
PRODID:-//eluceo/ical//2.0/EN
VERSION:2.0
CALSCALE:GREGORIAN
BEGIN:VEVENT
UID:e33a4687f6e8201884d29489ba0f94b5
DTSTAMP:20260425T152841Z
SUMMARY:Training
DESCRIPTION:https://www.sg-kuettigen.ch/kalender/training-72
DTSTART:20250814T180000
DTEND:20250814T200000
LOCATION:Schützenhaus Talmatt\, Küttigen\, Schützenhaus\, 5024 Küttigen
ORGANIZER;CN=Schützengesellschaft Küttigen:mailto:info@sg-kuettigen.ch
END:VEVENT
END:VCALENDAR
