BEGIN:VCALENDAR
PRODID:-//eluceo/ical//2.0/EN
VERSION:2.0
CALSCALE:GREGORIAN
BEGIN:VEVENT
UID:6577bcd6d81217878e4cf750a9318533
DTSTAMP:20260425T154046Z
SUMMARY:27. Zürcher Kantonalschützenfest
DESCRIPTION:https://www.sg-kuettigen.ch/kalender/27-zuercher-kantonalschuet
 zenfest
DTSTART:20250816T080000
DTEND:20250816T180000
LOCATION:Schützenhaus Trüllikon\, Rudolfingerstrasse\, 8465 Trüllikon
ORGANIZER;CN=Schützengesellschaft Küttigen:mailto:info@sg-kuettigen.ch
END:VEVENT
END:VCALENDAR
