BEGIN:VCALENDAR
PRODID:-//eluceo/ical//2.0/EN
VERSION:2.0
CALSCALE:GREGORIAN
BEGIN:VEVENT
UID:de55e7ec9037f981df171306c726b240
DTSTAMP:20260425T153916Z
SUMMARY:Schlussschiessen Kirchbergmeisterschaft
DESCRIPTION:https://www.sg-kuettigen.ch/kirchberg-schuetzenverband/kalender
 /schlussschiessen-kirchbergmeisterschaft
DTSTART:20250823T090000
DTEND:20250823T120000
LOCATION:Schiessanlage Büelhalde\, Densbüren\, Cholhaldeweg\, 5026 Densb
 üren
ORGANIZER;CN=Schützengesellschaft Küttigen:mailto:info@sg-kuettigen.ch
END:VEVENT
END:VCALENDAR
