BEGIN:VCALENDAR
PRODID:-//eluceo/ical//2.0/EN
VERSION:2.0
CALSCALE:GREGORIAN
BEGIN:VEVENT
UID:281a146b664fac840da9a7507f137a6e
DTSTAMP:20260425T154211Z
SUMMARY:Fahnenweihschiessen\, SG Tägerig (1/6)
DESCRIPTION:https://www.sg-kuettigen.ch/kalender/fahnenweihschiessen-sg-tae
 gerig
DTSTART:20250823T090000
DTEND:20250823T120000
LOCATION:Schützenhaus Pulvern\, Tägerig\, Kleinzelgweg 11\, 5522 Tägerig
ORGANIZER;CN=Schützengesellschaft Küttigen:mailto:info@sg-kuettigen.ch
END:VEVENT
BEGIN:VEVENT
UID:407f6134b96fc156ab9507a696f135ed
DTSTAMP:20260425T154211Z
SUMMARY:Fahnenweihschiessen\, SG Tägerig (2/6)
DESCRIPTION:https://www.sg-kuettigen.ch/kalender/fahnenweihschiessen-sg-tae
 gerig
DTSTART:20250823T130000
DTEND:20250823T170000
LOCATION:Schützenhaus Pulvern\, Tägerig\, Kleinzelgweg 11\, 5522 Tägerig
ORGANIZER;CN=Schützengesellschaft Küttigen:mailto:info@sg-kuettigen.ch
END:VEVENT
BEGIN:VEVENT
UID:312ab20bdaed189f3347ee6145943972
DTSTAMP:20260425T154211Z
SUMMARY:Fahnenweihschiessen\, SG Tägerig (3/6)
DESCRIPTION:https://www.sg-kuettigen.ch/kalender/fahnenweihschiessen-sg-tae
 gerig
DTSTART:20250824T090000
DTEND:20250824T120000
LOCATION:Schützenhaus Pulvern\, Tägerig\, Kleinzelgweg 11\, 5522 Tägerig
ORGANIZER;CN=Schützengesellschaft Küttigen:mailto:info@sg-kuettigen.ch
END:VEVENT
BEGIN:VEVENT
UID:7363f79b132f1e48a87a9ac84da9fde2
DTSTAMP:20260425T154211Z
SUMMARY:Fahnenweihschiessen\, SG Tägerig (4/6)
DESCRIPTION:https://www.sg-kuettigen.ch/kalender/fahnenweihschiessen-sg-tae
 gerig
DTSTART:20250829T170000
DTEND:20250829T200000
LOCATION:Schützenhaus Pulvern\, Tägerig\, Kleinzelgweg 11\, 5522 Tägerig
ORGANIZER;CN=Schützengesellschaft Küttigen:mailto:info@sg-kuettigen.ch
END:VEVENT
BEGIN:VEVENT
UID:5f3cb0424977ebce16fc5ca9f9826b60
DTSTAMP:20260425T154211Z
SUMMARY:Fahnenweihschiessen\, SG Tägerig (5/6)
DESCRIPTION:https://www.sg-kuettigen.ch/kalender/fahnenweihschiessen-sg-tae
 gerig
DTSTART:20250830T090000
DTEND:20250830T120000
LOCATION:Schützenhaus Pulvern\, Tägerig\, Kleinzelgweg 11\, 5522 Tägerig
ORGANIZER;CN=Schützengesellschaft Küttigen:mailto:info@sg-kuettigen.ch
END:VEVENT
BEGIN:VEVENT
UID:708431029d74a5b2dce1f987e03fa5b5
DTSTAMP:20260425T154211Z
SUMMARY:Fahnenweihschiessen\, SG Tägerig (6/6)
DESCRIPTION:https://www.sg-kuettigen.ch/kalender/fahnenweihschiessen-sg-tae
 gerig
DTSTART:20250830T130000
DTEND:20250830T160000
LOCATION:Schützenhaus Pulvern\, Tägerig\, Kleinzelgweg 11\, 5522 Tägerig
ORGANIZER;CN=Schützengesellschaft Küttigen:mailto:info@sg-kuettigen.ch
END:VEVENT
END:VCALENDAR
