BEGIN:VCALENDAR
PRODID:-//eluceo/ical//2.0/EN
VERSION:2.0
CALSCALE:GREGORIAN
BEGIN:VEVENT
UID:2f0cdb52bb314768e6a3b81b8f9da0ed
DTSTAMP:20260425T153003Z
SUMMARY:Training
DESCRIPTION:https://www.sg-kuettigen.ch/kalender/training-75
DTSTART:20250911T180000
DTEND:20250911T193000
LOCATION:Schützenhaus Talmatt\, Küttigen\, Schützenhaus\, 5024 Küttigen
ORGANIZER;CN=Schützengesellschaft Küttigen:mailto:info@sg-kuettigen.ch
END:VEVENT
END:VCALENDAR
