BEGIN:VCALENDAR
PRODID:-//eluceo/ical//2.0/EN
VERSION:2.0
CALSCALE:GREGORIAN
BEGIN:VEVENT
UID:2d3befce5ac23dd0d81b48a3c6f6b7ce
DTSTAMP:20260425T152524Z
SUMMARY:Plauschmatch
DESCRIPTION:https://www.sg-kuettigen.ch/kalender/plauschmatch-3
DTSTART:20250913T133000
DTEND:20250913T160000
LOCATION:Schützenhaus Talmatt\, Küttigen\, Schützenhaus\, 5024 Küttigen
ORGANIZER;CN=Schützengesellschaft Küttigen:mailto:info@sg-kuettigen.ch
END:VEVENT
END:VCALENDAR
