BEGIN:VCALENDAR
PRODID:-//eluceo/ical//2.0/EN
VERSION:2.0
CALSCALE:GREGORIAN
BEGIN:VEVENT
UID:5c5671f12fe125c85d46e067be37271d
DTSTAMP:20260425T152642Z
SUMMARY:8. Friedlistallschiessen (1/6)
DESCRIPTION:https://www.sg-kuettigen.ch/kalender/8-friedlistallschiessen
DTSTART:20190422T090000
DTEND:20190422T113000
LOCATION:Schützenhaus Staffelbach\, Schützenweg 1\, 5053 Staffelbach
ORGANIZER;CN=Schützengesellschaft Küttigen:mailto:info@sg-kuettigen.ch
END:VEVENT
BEGIN:VEVENT
UID:923d463abb1b1fe0c9c32b5057188148
DTSTAMP:20260425T152642Z
SUMMARY:8. Friedlistallschiessen (2/6)
DESCRIPTION:https://www.sg-kuettigen.ch/kalender/8-friedlistallschiessen
DTSTART:20190422T133000
DTEND:20190422T163000
LOCATION:Schützenhaus Staffelbach\, Schützenweg 1\, 5053 Staffelbach
ORGANIZER;CN=Schützengesellschaft Küttigen:mailto:info@sg-kuettigen.ch
END:VEVENT
BEGIN:VEVENT
UID:0f0388ea29bdb323c7777bb6628eb6c8
DTSTAMP:20260425T152642Z
SUMMARY:8. Friedlistallschiessen (3/6)
DESCRIPTION:https://www.sg-kuettigen.ch/kalender/8-friedlistallschiessen
DTSTART:20190426T170000
DTEND:20190426T200000
LOCATION:Schützenhaus Staffelbach\, Schützenweg 1\, 5053 Staffelbach
ORGANIZER;CN=Schützengesellschaft Küttigen:mailto:info@sg-kuettigen.ch
END:VEVENT
BEGIN:VEVENT
UID:4622042f3ce40d12620c177aa5b37e6c
DTSTAMP:20260425T152642Z
SUMMARY:8. Friedlistallschiessen (4/6)
DESCRIPTION:https://www.sg-kuettigen.ch/kalender/8-friedlistallschiessen
DTSTART:20190427T090000
DTEND:20190427T113000
LOCATION:Schützenhaus Staffelbach\, Schützenweg 1\, 5053 Staffelbach
ORGANIZER;CN=Schützengesellschaft Küttigen:mailto:info@sg-kuettigen.ch
END:VEVENT
BEGIN:VEVENT
UID:aac170007d971d172ec546db210e5ca1
DTSTAMP:20260425T152642Z
SUMMARY:8. Friedlistallschiessen (5/6)
DESCRIPTION:https://www.sg-kuettigen.ch/kalender/8-friedlistallschiessen
DTSTART:20190427T133000
DTEND:20190427T163000
LOCATION:Schützenhaus Staffelbach\, Schützenweg 1\, 5053 Staffelbach
ORGANIZER;CN=Schützengesellschaft Küttigen:mailto:info@sg-kuettigen.ch
END:VEVENT
BEGIN:VEVENT
UID:876629fd59785329d7a95069333fcf72
DTSTAMP:20260425T152642Z
SUMMARY:8. Friedlistallschiessen (6/6)
DESCRIPTION:https://www.sg-kuettigen.ch/kalender/8-friedlistallschiessen
DTSTART:20190428T090000
DTEND:20190428T113000
LOCATION:Schützenhaus Staffelbach\, Schützenweg 1\, 5053 Staffelbach
ORGANIZER;CN=Schützengesellschaft Küttigen:mailto:info@sg-kuettigen.ch
END:VEVENT
END:VCALENDAR
