BEGIN:VCALENDAR
PRODID:-//eluceo/ical//2.0/EN
VERSION:2.0
CALSCALE:GREGORIAN
BEGIN:VEVENT
UID:9ec6f57be5aa8d90a11d74969f9088eb
DTSTAMP:20260425T153233Z
SUMMARY:Endschiessen (1/2)
DESCRIPTION:https://www.sg-kuettigen.ch/kalender/endschiessen-5
DTSTART:20250920T090000
DTEND:20250920T120000
LOCATION:Schützenhaus Talmatt\, Küttigen\, Schützenhaus\, 5024 Küttigen
ORGANIZER;CN=Schützengesellschaft Küttigen:mailto:info@sg-kuettigen.ch
END:VEVENT
BEGIN:VEVENT
UID:7aa0b2ceb8db959d383e9565b245a1ba
DTSTAMP:20260425T153233Z
SUMMARY:Endschiessen (2/2)
DESCRIPTION:https://www.sg-kuettigen.ch/kalender/endschiessen-5
DTSTART:20250928T090000
DTEND:20250928T120000
LOCATION:Schützenhaus Talmatt\, Küttigen\, Schützenhaus\, 5024 Küttigen
ORGANIZER;CN=Schützengesellschaft Küttigen:mailto:info@sg-kuettigen.ch
END:VEVENT
END:VCALENDAR
