BEGIN:VCALENDAR
PRODID:-//eluceo/ical//2.0/EN
VERSION:2.0
CALSCALE:GREGORIAN
BEGIN:VEVENT
UID:563870f5513956dac16cf6f17bc5753c
DTSTAMP:20260425T172342Z
SUMMARY:Hock Ehrenmitglieder
DESCRIPTION:https://www.sg-kuettigen.ch/kalender/hock-ehrenmitglieder-4
DTSTART:20251017T190000
DTEND:20251017T220000
LOCATION:Schützenhaus Talmatt\, Küttigen\, Schützenhaus\, 5024 Küttigen
ORGANIZER;CN=Schützengesellschaft Küttigen:mailto:info@sg-kuettigen.ch
END:VEVENT
END:VCALENDAR
