BEGIN:VCALENDAR
PRODID:-//eluceo/ical//2.0/EN
VERSION:2.0
CALSCALE:GREGORIAN
BEGIN:VEVENT
UID:1b8fab7aa0e745160cfdf9b0ebf4e179
DTSTAMP:20260425T154045Z
SUMMARY:Absenden & Jahresschlussfeier
DESCRIPTION:https://www.sg-kuettigen.ch/kalender/absenden-jahresschlussfeie
 r
DTSTART:20251122T190000
DTEND:20251122T230000
LOCATION:Restaurant Traube\, Küttigen\, Hauptstrasse 58\, 5024 Küttigen
ORGANIZER;CN=Schützengesellschaft Küttigen:mailto:info@sg-kuettigen.ch
END:VEVENT
END:VCALENDAR
