BEGIN:VCALENDAR
PRODID:-//eluceo/ical//2.0/EN
VERSION:2.0
CALSCALE:GREGORIAN
BEGIN:VEVENT
UID:be8c4fdd7625a6ad2f8b69a1faaede4f
DTSTAMP:20260425T153925Z
SUMMARY:Bezirksverbandssschiessen (1/2)
DESCRIPTION:https://www.sg-kuettigen.ch/kalender/bezirksverbandssschiessen
DTSTART:20250604T173000
DTEND:20250604T190000
LOCATION:Regionale Schiessanlage Buchs\, Im Lostorf\, 5033 Buchs
ORGANIZER;CN=Schützengesellschaft Küttigen:mailto:info@sg-kuettigen.ch
END:VEVENT
BEGIN:VEVENT
UID:43914dd2e2c4264adcf293769e806daf
DTSTAMP:20260425T153925Z
SUMMARY:Bezirksverbandssschiessen (2/2)
DESCRIPTION:https://www.sg-kuettigen.ch/kalender/bezirksverbandssschiessen
DTSTART:20250614T083000
DTEND:20250614T113000
LOCATION:Regionale Schiessanlage Buchs\, Im Lostorf\, 5033 Buchs
ORGANIZER;CN=Schützengesellschaft Küttigen:mailto:info@sg-kuettigen.ch
END:VEVENT
END:VCALENDAR
