BEGIN:VCALENDAR
PRODID:-//eluceo/ical//2.0/EN
VERSION:2.0
CALSCALE:GREGORIAN
BEGIN:VEVENT
UID:bc88db031529e562e7e1332a36513e19
DTSTAMP:20260425T153224Z
SUMMARY:Theorieabend mit Gewehrabgabe
DESCRIPTION:https://www.sg-kuettigen.ch/jungschuetzen/kalender/theorieabend
 -mit-gewehrabgabe-1
DTSTART:20250321T190000
DTEND:20250321T220000
LOCATION:Schützenhaus Talmatt\, Küttigen\, Schützenhaus\, 5024 Küttigen
ORGANIZER;CN=Schützengesellschaft Küttigen:mailto:info@sg-kuettigen.ch
END:VEVENT
END:VCALENDAR
