BEGIN:VCALENDAR
PRODID:-//eluceo/ical//2.0/EN
VERSION:2.0
CALSCALE:GREGORIAN
BEGIN:VEVENT
UID:66b18e83db5ac1eac3d1a033b6bc7c90
DTSTAMP:20260425T154225Z
SUMMARY:1. Schiesstag: Belehrungsschiessen
DESCRIPTION:https://www.sg-kuettigen.ch/jungschuetzen/kalender/1-schiesstag
 -belehrungsschiessen-0
DTSTART:20250322T133000
DTEND:20250322T163000
LOCATION:Schützenhaus Talmatt\, Küttigen\, Schützenhaus\, 5024 Küttigen
ORGANIZER;CN=Schützengesellschaft Küttigen:mailto:info@sg-kuettigen.ch
END:VEVENT
END:VCALENDAR
