BEGIN:VCALENDAR
PRODID:-//eluceo/ical//2.0/EN
VERSION:2.0
CALSCALE:GREGORIAN
BEGIN:VEVENT
UID:1a2640dd9980e8389c378ea5b39b6df5
DTSTAMP:20260425T154303Z
SUMMARY:2. Schiesstag: Belehrungsschiessen
DESCRIPTION:https://www.sg-kuettigen.ch/jungschuetzen/kalender/2-schiesstag
 -belehrungsschiessen-0
DTSTART:20250329T133000
DTEND:20250329T163000
LOCATION:Schützenhaus Talmatt\, Küttigen\, Schützenhaus\, 5024 Küttigen
ORGANIZER;CN=Schützengesellschaft Küttigen:mailto:info@sg-kuettigen.ch
END:VEVENT
END:VCALENDAR
