BEGIN:VCALENDAR
PRODID:-//eluceo/ical//2.0/EN
VERSION:2.0
CALSCALE:GREGORIAN
BEGIN:VEVENT
UID:24b2190dc85dfd14c8c0b43ba16b47eb
DTSTAMP:20260425T155233Z
SUMMARY:3. Schiesstag: Belehrungsschiessen\, Präzisionsschiessen
DESCRIPTION:https://www.sg-kuettigen.ch/jungschuetzen/kalender/3-schiesstag
 -belehrungsschiessen-praezisionsschiessen-0
DTSTART:20250412T133000
DTEND:20250412T163000
LOCATION:Schützenhaus Talmatt\, Küttigen\, Schützenhaus\, 5024 Küttigen
ORGANIZER;CN=Schützengesellschaft Küttigen:mailto:info@sg-kuettigen.ch
END:VEVENT
END:VCALENDAR
