BEGIN:VCALENDAR
PRODID:-//eluceo/ical//2.0/EN
VERSION:2.0
CALSCALE:GREGORIAN
BEGIN:VEVENT
UID:c0945c78b126fed234cab75a62c973c2
DTSTAMP:20260425T154136Z
SUMMARY:4. Schiesstag: Präzisionsschiessen\, Prüfungsschiessen
DESCRIPTION:https://www.sg-kuettigen.ch/jungschuetzen/kalender/4-schiesstag
 -praezisionsschiessen-pruefungsschiessen-1
DTSTART:20250424T174500
DTEND:20250424T200000
LOCATION:Schützenhaus Talmatt\, Küttigen\, Schützenhaus\, 5024 Küttigen
ORGANIZER;CN=Schützengesellschaft Küttigen:mailto:info@sg-kuettigen.ch
END:VEVENT
END:VCALENDAR
