BEGIN:VCALENDAR
PRODID:-//eluceo/ical//2.0/EN
VERSION:2.0
CALSCALE:GREGORIAN
BEGIN:VEVENT
UID:a291c72600b408a5cf2744d0ea14b202
DTSTAMP:20260425T154559Z
SUMMARY:5. Schiesstag: Obligatorisches\, JS-Stich
DESCRIPTION:https://www.sg-kuettigen.ch/jungschuetzen/kalender/5-schiesstag
 -obligatorisches-js-stich-1
DTSTART:20250510T133000
DTEND:20250510T163000
LOCATION:Schützenhaus Talmatt\, Küttigen\, Schützenhaus\, 5024 Küttigen
ORGANIZER;CN=Schützengesellschaft Küttigen:mailto:info@sg-kuettigen.ch
END:VEVENT
END:VCALENDAR
