BEGIN:VCALENDAR
PRODID:-//eluceo/ical//2.0/EN
VERSION:2.0
CALSCALE:GREGORIAN
BEGIN:VEVENT
UID:178ef1599a34c61ab1e0e0160a74689e
DTSTAMP:20260425T154440Z
SUMMARY:Freundschaftsschiessen mit SG Densbüren-Asp
DESCRIPTION:https://www.sg-kuettigen.ch/jungschuetzen/kalender/freundschaft
 sschiessen-mit-sg-densbueren-asp-0
DTSTART:20250816T133000
DTEND:20250816T163000
LOCATION:Schiessanlage Büelhalde\, Densbüren\, Cholhaldeweg\, 5026 Densb
 üren
ORGANIZER;CN=Schützengesellschaft Küttigen:mailto:info@sg-kuettigen.ch
END:VEVENT
END:VCALENDAR
