BEGIN:VCALENDAR
PRODID:-//eluceo/ical//2.0/EN
VERSION:2.0
CALSCALE:GREGORIAN
BEGIN:VEVENT
UID:da2b9e50eb58f6e3dd2e862f06ff08a0
DTSTAMP:20260425T153924Z
SUMMARY:6. Schiesstag: Hauptschiessen\, Wettkampfschiessen
DESCRIPTION:https://www.sg-kuettigen.ch/jungschuetzen/kalender/6-schiesstag
 -hauptschiessen-wettkampfschiessen
DTSTART:20250517T133000
DTEND:20250517T163000
LOCATION:Schützenhaus Talmatt\, Küttigen\, Schützenhaus\, 5024 Küttigen
ORGANIZER;CN=Schützengesellschaft Küttigen:mailto:info@sg-kuettigen.ch
END:VEVENT
END:VCALENDAR
