BEGIN:VCALENDAR
PRODID:-//eluceo/ical//2.0/EN
VERSION:2.0
CALSCALE:GREGORIAN
BEGIN:VEVENT
UID:0bc4e5b64193ddbcbbbabe92f2df1f0a
DTSTAMP:20260425T154442Z
SUMMARY:7. Schiesstag: Feldschiessen-Training
DESCRIPTION:https://www.sg-kuettigen.ch/jungschuetzen/kalender/7-schiesstag
 -feldschiessen-training
DTSTART:20250522T174500
DTEND:20250522T200000
LOCATION:Schützenhaus Talmatt\, Küttigen\, Schützenhaus\, 5024 Küttigen
ORGANIZER;CN=Schützengesellschaft Küttigen:mailto:info@sg-kuettigen.ch
END:VEVENT
END:VCALENDAR
