BEGIN:VCALENDAR
PRODID:-//eluceo/ical//2.0/EN
VERSION:2.0
CALSCALE:GREGORIAN
BEGIN:VEVENT
UID:affa0802858cefde973c3e6500a66a1d
DTSTAMP:20260425T155316Z
SUMMARY:8. Schiesstag: Hauptschiessen\, JS-Stich\, Nachschiessen
DESCRIPTION:https://www.sg-kuettigen.ch/jungschuetzen/kalender/8-schiesstag
 -hauptschiessen-js-stich-nachschiessen-0
DTSTART:20250531T133000
DTEND:20250531T163000
LOCATION:Schützenhaus Talmatt\, Küttigen\, Schützenhaus\, 5024 Küttigen
ORGANIZER;CN=Schützengesellschaft Küttigen:mailto:info@sg-kuettigen.ch
END:VEVENT
END:VCALENDAR
