BEGIN:VCALENDAR
PRODID:-//eluceo/ical//2.0/EN
VERSION:2.0
CALSCALE:GREGORIAN
BEGIN:VEVENT
UID:7d391baa551465380f8bcac79570a1df
DTSTAMP:20260425T154928Z
SUMMARY:Wettschiessen (1/2)
DESCRIPTION:https://www.sg-kuettigen.ch/jungschuetzen/kalender/wettschiesse
 n-1
DTSTART:20250605T174500
DTEND:20250605T193000
LOCATION:Schützenhaus Talmatt\, Küttigen\, Schützenhaus\, 5024 Küttigen
ORGANIZER;CN=Schützengesellschaft Küttigen:mailto:info@sg-kuettigen.ch
END:VEVENT
BEGIN:VEVENT
UID:c3163f6cd2c00f36bcb9c9a1d1cf2957
DTSTAMP:20260425T154928Z
SUMMARY:Wettschiessen (2/2)
DESCRIPTION:https://www.sg-kuettigen.ch/jungschuetzen/kalender/wettschiesse
 n-1
DTSTART:20250607T133000
DTEND:20250607T160000
LOCATION:Schützenhaus Talmatt\, Küttigen\, Schützenhaus\, 5024 Küttigen
ORGANIZER;CN=Schützengesellschaft Küttigen:mailto:info@sg-kuettigen.ch
END:VEVENT
END:VCALENDAR
