BEGIN:VCALENDAR
PRODID:-//eluceo/ical//2.0/EN
VERSION:2.0
CALSCALE:GREGORIAN
BEGIN:VEVENT
UID:6fbef0a85860b6c557acfd0ddb6d0a11
DTSTAMP:20260425T154224Z
SUMMARY:Jungschützen-Cup
DESCRIPTION:https://www.sg-kuettigen.ch/jungschuetzen/kalender/jungschuetze
 n-cup-1
DTSTART:20250614T133000
DTEND:20250614T160000
LOCATION:Schützenhaus Talmatt\, Küttigen\, Schützenhaus\, 5024 Küttigen
ORGANIZER;CN=Schützengesellschaft Küttigen:mailto:info@sg-kuettigen.ch
END:VEVENT
END:VCALENDAR
