BEGIN:VCALENDAR
PRODID:-//eluceo/ical//2.0/EN
VERSION:2.0
CALSCALE:GREGORIAN
BEGIN:VEVENT
UID:d01724ebca41b74f302d4ebfed44b306
DTSTAMP:20260425T154338Z
SUMMARY:Eidgenössisches Jungschützenfest\, Wallis
DESCRIPTION:https://www.sg-kuettigen.ch/jungschuetzen/kalender/eidgenoessis
 ches-jungschuetzenfest-wallis
DTSTART:20250809T070000
DTEND:20250809T200000
LOCATION:Stand de tir de Châble-Croix\, Rue du Chablais 85\, 1893 Collombe
 y-Muraz
ORGANIZER;CN=Schützengesellschaft Küttigen:mailto:info@sg-kuettigen.ch
END:VEVENT
END:VCALENDAR
