BEGIN:VCALENDAR
PRODID:-//eluceo/ical//2.0/EN
VERSION:2.0
CALSCALE:GREGORIAN
BEGIN:VEVENT
UID:15c8f5329012f4a14738b3f6d791031e
DTSTAMP:20260425T154222Z
SUMMARY:FS Training
DESCRIPTION:https://www.sg-kuettigen.ch/kalender/fs-training
DTSTART:20190502T180000
DTEND:20190502T200000
LOCATION:Schützenhaus Talmatt\, Küttigen\, Schützenhaus\, 5024 Küttigen
ORGANIZER;CN=Schützengesellschaft Küttigen:mailto:info@sg-kuettigen.ch
END:VEVENT
END:VCALENDAR
