BEGIN:VCALENDAR
PRODID:-//eluceo/ical//2.0/EN
VERSION:2.0
CALSCALE:GREGORIAN
BEGIN:VEVENT
UID:547c314fda202c1aa2da3c6b80e26785
DTSTAMP:20260425T155356Z
SUMMARY:Jungschützen Pistolenschiessen
DESCRIPTION:https://www.sg-kuettigen.ch/jungschuetzen/kalender/jungschuetze
 n-pistolenschiessen
DTSTART:20250830T130000
DTEND:20250830T170000
LOCATION:Shooting Inn\, Oberentfelden\, Köllikerstrasse 32\, 5036 Oberentf
 elden
ORGANIZER;CN=Schützengesellschaft Küttigen:mailto:info@sg-kuettigen.ch
END:VEVENT
END:VCALENDAR
