BEGIN:VCALENDAR
PRODID:-//eluceo/ical//2.0/EN
VERSION:2.0
CALSCALE:GREGORIAN
BEGIN:VEVENT
UID:cc49e00cd2ab3317683a50fec51d6840
DTSTAMP:20260425T153923Z
SUMMARY:FS Training mit Jungschützen
DESCRIPTION:https://www.sg-kuettigen.ch/kalender/fs-training-mit-jungschuet
 zen
DTSTART:20190509T180000
DTEND:20190509T200000
LOCATION:Schützenhaus Talmatt\, Küttigen\, Schützenhaus\, 5024 Küttigen
ORGANIZER;CN=Schützengesellschaft Küttigen:mailto:info@sg-kuettigen.ch
END:VEVENT
END:VCALENDAR
