BEGIN:VCALENDAR
PRODID:-//eluceo/ical//2.0/EN
VERSION:2.0
CALSCALE:GREGORIAN
BEGIN:VEVENT
UID:f2d539f0b3281d52de422d62f80ad00b
DTSTAMP:20260425T154425Z
SUMMARY:Schützenhausputzete
DESCRIPTION:https://www.sg-kuettigen.ch/kalender/schuetzenhausputzete-5
DTSTART:20260314T090000
DTEND:20260314T110000
LOCATION:Schützenhaus Talmatt\, Küttigen\, Schützenhaus\, 5024 Küttigen
ORGANIZER;CN=Schützengesellschaft Küttigen:mailto:info@sg-kuettigen.ch
END:VEVENT
END:VCALENDAR
