BEGIN:VCALENDAR
PRODID:-//eluceo/ical//2.0/EN
VERSION:2.0
CALSCALE:GREGORIAN
BEGIN:VEVENT
UID:0912c70c9e028c9e0a0d23a34663ac55
DTSTAMP:20260425T153119Z
SUMMARY:Winterausmarsch
DESCRIPTION:https://www.sg-kuettigen.ch/kalender/winterausmarsch-4
DTSTART:20260314T140000
DTEND:20260314T180000
LOCATION:Schulhaus Dorf\, Küttigen\, Schulhausweg 1\, 5024 Küttigen
ORGANIZER;CN=Schützengesellschaft Küttigen:mailto:info@sg-kuettigen.ch
END:VEVENT
END:VCALENDAR
