BEGIN:VCALENDAR
PRODID:-//eluceo/ical//2.0/EN
VERSION:2.0
CALSCALE:GREGORIAN
BEGIN:VEVENT
UID:75767b2b966ea2fc03b3ffb9329d3a6e
DTSTAMP:20260425T153222Z
SUMMARY:Training
DESCRIPTION:https://www.sg-kuettigen.ch/kalender/training-76
DTSTART:20260321T090000
DTEND:20260321T110000
LOCATION:Schützenhaus Talmatt\, Küttigen\, Schützenhaus\, 5024 Küttigen
ORGANIZER;CN=Schützengesellschaft Küttigen:mailto:info@sg-kuettigen.ch
END:VEVENT
END:VCALENDAR
